BEGIN:VCALENDAR
VERSION:2.0
PRODID:-//Alderson Broaddus University - ECPv6.0.13.1//NONSGML v1.0//EN
CALSCALE:GREGORIAN
METHOD:PUBLISH
X-WR-CALNAME:Alderson Broaddus University
X-ORIGINAL-URL:https://ab.edu
X-WR-CALDESC:Events for Alderson Broaddus University
REFRESH-INTERVAL;VALUE=DURATION:PT1H
X-Robots-Tag:noindex
X-PUBLISHED-TTL:PT1H
BEGIN:VTIMEZONE
TZID:America/New_York
BEGIN:DAYLIGHT
TZOFFSETFROM:-0500
TZOFFSETTO:-0400
TZNAME:EDT
DTSTART:20230312T070000
END:DAYLIGHT
BEGIN:STANDARD
TZOFFSETFROM:-0400
TZOFFSETTO:-0500
TZNAME:EST
DTSTART:20231105T060000
END:STANDARD
END:VTIMEZONE
BEGIN:VEVENT
DTSTART;VALUE=DATE:20230821
DTEND;VALUE=DATE:20230822
DTSTAMP:20230806T130536
CREATED:20220912T181612Z
LAST-MODIFIED:20220912T181612Z
UID:20530-1692576000-1692662399@ab.edu
SUMMARY:First Day of Full Semester\, 1st 8-week and 1st 7-week courses
DESCRIPTION:
URL:https://ab.edu/academic-calendar-event/first-day-of-full-semester-1st-8-week-and-1st-7-week-courses-2/
CATEGORIES:Undergraduate Academic Calendar
END:VEVENT
BEGIN:VEVENT
DTSTART;VALUE=DATE:20230823
DTEND;VALUE=DATE:20230824
DTSTAMP:20230806T130536
CREATED:20220912T181634Z
LAST-MODIFIED:20220912T181634Z
UID:20532-1692748800-1692835199@ab.edu
SUMMARY:Last day to Add/Drop 1st 8- week and 1st 7-week Courses
DESCRIPTION:
URL:https://ab.edu/academic-calendar-event/last-day-to-add-drop-1st-8-week-and-1st-7-week-courses-2/
CATEGORIES:Undergraduate Academic Calendar
END:VEVENT
BEGIN:VEVENT
DTSTART;VALUE=DATE:20230825
DTEND;VALUE=DATE:20230826
DTSTAMP:20230806T130536
CREATED:20220912T181706Z
LAST-MODIFIED:20220912T181706Z
UID:20534-1692921600-1693007999@ab.edu
SUMMARY:LPN-BSN Weekend Classes
DESCRIPTION:
URL:https://ab.edu/academic-calendar-event/lpn-bsn-weekend-classes-59/2023-08-25/
CATEGORIES:Undergraduate Academic Calendar
END:VEVENT
BEGIN:VEVENT
DTSTART;VALUE=DATE:20230826
DTEND;VALUE=DATE:20230827
DTSTAMP:20230806T130536
CREATED:20220912T181706Z
LAST-MODIFIED:20220912T181706Z
UID:20536-1693008000-1693094399@ab.edu
SUMMARY:LPN-BSN Weekend Classes
DESCRIPTION:
URL:https://ab.edu/academic-calendar-event/lpn-bsn-weekend-classes-59/2023-08-26/
CATEGORIES:Undergraduate Academic Calendar
END:VEVENT
BEGIN:VEVENT
DTSTART;VALUE=DATE:20230828
DTEND;VALUE=DATE:20230829
DTSTAMP:20230806T130536
CREATED:20220912T181733Z
LAST-MODIFIED:20220912T181733Z
UID:20537-1693180800-1693267199@ab.edu
SUMMARY:Last day to Add/Drop Full Semester Courses
DESCRIPTION:
URL:https://ab.edu/academic-calendar-event/last-day-to-add-drop-full-semester-courses-4/
CATEGORIES:Undergraduate Academic Calendar
END:VEVENT
BEGIN:VEVENT
DTSTART;VALUE=DATE:20230828
DTEND;VALUE=DATE:20230829
DTSTAMP:20230806T130536
CREATED:20220912T181756Z
LAST-MODIFIED:20220912T181756Z
UID:20539-1693180800-1693267199@ab.edu
SUMMARY:First Day of 1st 6-week Courses
DESCRIPTION:
URL:https://ab.edu/academic-calendar-event/first-day-of-1st-6-week-courses-4/
CATEGORIES:Undergraduate Academic Calendar
END:VEVENT
BEGIN:VEVENT
DTSTART;VALUE=DATE:20230831
DTEND;VALUE=DATE:20230901
DTSTAMP:20230806T130536
CREATED:20220912T181836Z
LAST-MODIFIED:20220912T181910Z
UID:20541-1693440000-1693526399@ab.edu
SUMMARY:Opening Convocation Wilcox Chaptel\, 11:00 am
DESCRIPTION:
URL:https://ab.edu/academic-calendar-event/opening-convocation-wilcox-chaptel-1100-am/
CATEGORIES:Undergraduate Academic Calendar
END:VEVENT
END:VCALENDAR