BEGIN:VCALENDAR
VERSION:2.0
PRODID:-//Alderson Broaddus University - ECPv6.0.13.1//NONSGML v1.0//EN
CALSCALE:GREGORIAN
METHOD:PUBLISH
X-ORIGINAL-URL:https://ab.edu
X-WR-CALDESC:Events for Alderson Broaddus University
REFRESH-INTERVAL;VALUE=DURATION:PT1H
X-Robots-Tag:noindex
X-PUBLISHED-TTL:PT1H
BEGIN:VTIMEZONE
TZID:America/New_York
BEGIN:DAYLIGHT
TZOFFSETFROM:-0500
TZOFFSETTO:-0400
TZNAME:EDT
DTSTART:20230312T070000
END:DAYLIGHT
BEGIN:STANDARD
TZOFFSETFROM:-0400
TZOFFSETTO:-0500
TZNAME:EST
DTSTART:20231105T060000
END:STANDARD
END:VTIMEZONE
BEGIN:VEVENT
DTSTART;VALUE=DATE:20230831
DTEND;VALUE=DATE:20230901
DTSTAMP:20230806T135623
CREATED:20220912T181836Z
LAST-MODIFIED:20220912T181910Z
UID:20541-1693440000-1693526399@ab.edu
SUMMARY:Opening Convocation Wilcox Chaptel\, 11:00 am
DESCRIPTION:
URL:https://ab.edu/academic-calendar-event/opening-convocation-wilcox-chaptel-1100-am/
CATEGORIES:Undergraduate Academic Calendar
END:VEVENT
END:VCALENDAR