BEGIN:VCALENDAR
VERSION:2.0
PRODID:-//Alderson Broaddus University - ECPv6.0.13.1//NONSGML v1.0//EN
CALSCALE:GREGORIAN
METHOD:PUBLISH
X-WR-CALNAME:Alderson Broaddus University
X-ORIGINAL-URL:https://ab.edu
X-WR-CALDESC:Events for Alderson Broaddus University
REFRESH-INTERVAL;VALUE=DURATION:PT1H
X-Robots-Tag:noindex
X-PUBLISHED-TTL:PT1H
BEGIN:VTIMEZONE
TZID:America/New_York
BEGIN:DAYLIGHT
TZOFFSETFROM:-0500
TZOFFSETTO:-0400
TZNAME:EDT
DTSTART:20230312T070000
END:DAYLIGHT
BEGIN:STANDARD
TZOFFSETFROM:-0400
TZOFFSETTO:-0500
TZNAME:EST
DTSTART:20231105T060000
END:STANDARD
END:VTIMEZONE
BEGIN:VEVENT
DTSTART;VALUE=DATE:20230904
DTEND;VALUE=DATE:20230905
DTSTAMP:20230806T135555
CREATED:20220912T182311Z
LAST-MODIFIED:20220912T182311Z
UID:20543-1693785600-1693871999@ab.edu
SUMMARY:Labor Day
DESCRIPTION:
URL:https://ab.edu/academic-calendar-event/labor-day-6/
CATEGORIES:Undergraduate Academic Calendar
END:VEVENT
BEGIN:VEVENT
DTSTART;VALUE=DATE:20230904
DTEND;VALUE=DATE:20230905
DTSTAMP:20230806T135555
CREATED:20220912T182353Z
LAST-MODIFIED:20220912T182353Z
UID:20545-1693785600-1693871999@ab.edu
SUMMARY:No On-Campus Classes
DESCRIPTION:
URL:https://ab.edu/academic-calendar-event/no-on-campus-classes-33/
CATEGORIES:Undergraduate Academic Calendar
END:VEVENT
BEGIN:VEVENT
DTSTART;VALUE=DATE:20230904
DTEND;VALUE=DATE:20230905
DTSTAMP:20230806T135555
CREATED:20220912T182413Z
LAST-MODIFIED:20220912T182413Z
UID:20547-1693785600-1693871999@ab.edu
SUMMARY:Offices Closed
DESCRIPTION:
URL:https://ab.edu/academic-calendar-event/offices-closed-34/
CATEGORIES:Undergraduate Academic Calendar
END:VEVENT
BEGIN:VEVENT
DTSTART;VALUE=DATE:20230918
DTEND;VALUE=DATE:20230919
DTSTAMP:20230806T135555
CREATED:20220912T182432Z
LAST-MODIFIED:20220912T182432Z
UID:20549-1694995200-1695081599@ab.edu
SUMMARY:Last Day to Clear Incompletes
DESCRIPTION:
URL:https://ab.edu/academic-calendar-event/last-day-to-clear-incompletes-3/
CATEGORIES:Undergraduate Academic Calendar
END:VEVENT
BEGIN:VEVENT
DTSTART;VALUE=DATE:20230922
DTEND;VALUE=DATE:20230923
DTSTAMP:20230806T135555
CREATED:20220912T182458Z
LAST-MODIFIED:20220912T182458Z
UID:20551-1695340800-1695427199@ab.edu
SUMMARY:LPN-BSN Weekend Classes
DESCRIPTION:
URL:https://ab.edu/academic-calendar-event/lpn-bsn-weekend-classes-60/2023-09-22/
CATEGORIES:Undergraduate Academic Calendar
END:VEVENT
BEGIN:VEVENT
DTSTART;VALUE=DATE:20230923
DTEND;VALUE=DATE:20230924
DTSTAMP:20230806T135555
CREATED:20220912T182458Z
LAST-MODIFIED:20220912T182458Z
UID:20553-1695427200-1695513599@ab.edu
SUMMARY:LPN-BSN Weekend Classes
DESCRIPTION:
URL:https://ab.edu/academic-calendar-event/lpn-bsn-weekend-classes-60/2023-09-23/
CATEGORIES:Undergraduate Academic Calendar
END:VEVENT
BEGIN:VEVENT
DTSTART;VALUE=DATE:20230927
DTEND;VALUE=DATE:20230928
DTSTAMP:20230806T135555
CREATED:20220912T182519Z
LAST-MODIFIED:20220912T182519Z
UID:20554-1695772800-1695859199@ab.edu
SUMMARY:Last Day to Withdraw from 1st 7-week Courses
DESCRIPTION:
URL:https://ab.edu/academic-calendar-event/last-day-to-withdraw-from-1st-7-week-courses-9/
CATEGORIES:Undergraduate Academic Calendar
END:VEVENT
BEGIN:VEVENT
DTSTART;VALUE=DATE:20230929
DTEND;VALUE=DATE:20230930
DTSTAMP:20230806T135555
CREATED:20220912T182540Z
LAST-MODIFIED:20220912T182540Z
UID:20556-1695945600-1696031999@ab.edu
SUMMARY:Last Day to Withdraw from 1st 8-week Courses
DESCRIPTION:
URL:https://ab.edu/academic-calendar-event/last-day-to-withdraw-from-1st-8-week-courses-4/
CATEGORIES:Undergraduate Academic Calendar
END:VEVENT
END:VCALENDAR