BEGIN:VCALENDAR
VERSION:2.0
PRODID:-//Alderson Broaddus University - ECPv6.0.13.1//NONSGML v1.0//EN
CALSCALE:GREGORIAN
METHOD:PUBLISH
X-WR-CALNAME:Alderson Broaddus University
X-ORIGINAL-URL:https://ab.edu
X-WR-CALDESC:Events for Alderson Broaddus University
REFRESH-INTERVAL;VALUE=DURATION:PT1H
X-Robots-Tag:noindex
X-PUBLISHED-TTL:PT1H
BEGIN:VTIMEZONE
TZID:America/New_York
BEGIN:DAYLIGHT
TZOFFSETFROM:-0500
TZOFFSETTO:-0400
TZNAME:EDT
DTSTART:20230312T070000
END:DAYLIGHT
BEGIN:STANDARD
TZOFFSETFROM:-0400
TZOFFSETTO:-0500
TZNAME:EST
DTSTART:20231105T060000
END:STANDARD
END:VTIMEZONE
BEGIN:VEVENT
DTSTART;VALUE=DATE:20230704
DTEND;VALUE=DATE:20230705
DTSTAMP:20230806T135513
CREATED:20220509T144025Z
LAST-MODIFIED:20220509T144025Z
UID:19342-1688428800-1688515199@ab.edu
SUMMARY:Independence Day
DESCRIPTION:
URL:https://ab.edu/academic-calendar-event/independence-day-5/
CATEGORIES:Undergraduate Academic Calendar
END:VEVENT
BEGIN:VEVENT
DTSTART;VALUE=DATE:20230704
DTEND;VALUE=DATE:20230705
DTSTAMP:20230806T135513
CREATED:20220509T144218Z
LAST-MODIFIED:20220509T144218Z
UID:19344-1688428800-1688515199@ab.edu
SUMMARY:No On-Campus Classes
DESCRIPTION:
URL:https://ab.edu/academic-calendar-event/no-on-campus-classes-22/
CATEGORIES:Undergraduate Academic Calendar
END:VEVENT
BEGIN:VEVENT
DTSTART;VALUE=DATE:20230704
DTEND;VALUE=DATE:20230705
DTSTAMP:20230806T135513
CREATED:20220509T144243Z
LAST-MODIFIED:20220509T144243Z
UID:19346-1688428800-1688515199@ab.edu
SUMMARY:Offices Closed
DESCRIPTION:
URL:https://ab.edu/academic-calendar-event/offices-closed-18/
CATEGORIES:Undergraduate Academic Calendar
END:VEVENT
BEGIN:VEVENT
DTSTART;VALUE=DATE:20230714
DTEND;VALUE=DATE:20230715
DTSTAMP:20230806T135513
CREATED:20220509T144307Z
LAST-MODIFIED:20220509T144307Z
UID:19348-1689292800-1689379199@ab.edu
SUMMARY:Last Day to Withdraw from Extended Learning Courses
DESCRIPTION:
URL:https://ab.edu/academic-calendar-event/last-day-to-withdraw-from-extended-learning-courses/
CATEGORIES:Undergraduate Academic Calendar
END:VEVENT
BEGIN:VEVENT
DTSTART;VALUE=DATE:20230720
DTEND;VALUE=DATE:20230721
DTSTAMP:20230806T135513
CREATED:20220509T150023Z
LAST-MODIFIED:20220509T150023Z
UID:19353-1689811200-1689897599@ab.edu
SUMMARY:Last Day to Withdraw Full Summer Session Courses
DESCRIPTION:
URL:https://ab.edu/academic-calendar-event/last-day-to-withdraw-full-summer-session-courses/
CATEGORIES:Undergraduate Academic Calendar
END:VEVENT
BEGIN:VEVENT
DTSTART;VALUE=DATE:20230726
DTEND;VALUE=DATE:20230727
DTSTAMP:20230806T135513
CREATED:20220509T150050Z
LAST-MODIFIED:20220509T150050Z
UID:19355-1690329600-1690415999@ab.edu
SUMMARY:Last Day to Withdraw 2nd Summer Session Courses
DESCRIPTION:
URL:https://ab.edu/academic-calendar-event/last-day-to-withdraw-2nd-summer-session-courses/
CATEGORIES:Undergraduate Academic Calendar
END:VEVENT
BEGIN:VEVENT
DTSTART;VALUE=DATE:20230730
DTEND;VALUE=DATE:20230731
DTSTAMP:20230806T135513
CREATED:20220509T150201Z
LAST-MODIFIED:20220509T150201Z
UID:19357-1690675200-1690761599@ab.edu
SUMMARY:Last Day of Extended Learning Courses
DESCRIPTION:
URL:https://ab.edu/academic-calendar-event/last-day-of-extended-learning-courses/
CATEGORIES:Undergraduate Academic Calendar
END:VEVENT
END:VCALENDAR